BEGIN:VCALENDAR
VERSION:2.0
PRODID:-//ChurchDev//Events//EN
CALSCALE:GREGORIAN
METHOD:PUBLISH
BEGIN:VEVENT
UID:4263-20230706@www.oakhurstfullgospel.com
SUMMARY:300 Bible Study
DTSTART:20230707T003000Z
DTEND:20230707T013000Z
DESCRIPTION:https://www.oakhurstfullgospel.com/events/300-bible-study-2/
URL:https://www.oakhurstfullgospel.com/events/300-bible-study-2/
DTSTAMP:20260419T195354Z
END:VEVENT
END:VCALENDAR
