BEGIN:VCALENDAR
VERSION:2.0
PRODID:-//ChurchDev//Events//EN
CALSCALE:GREGORIAN
METHOD:PUBLISH
BEGIN:VEVENT
UID:4705-20260509@www.oakhurstfullgospel.com
SUMMARY:Mother&#8217\;s Day Brunch
DTSTART:20260509T170000Z
DTEND:20260509T180000Z
DESCRIPTION:Mother&#8217\;s Day Brunch @ 11 am\\nFinger Foods\\nWhite elephant game with plants.\\n\\nhttps://www.oakhurstfullgospel.com/events/mothers-day-brunch/
URL:https://www.oakhurstfullgospel.com/events/mothers-day-brunch/
DTSTAMP:20260419T175722Z
END:VEVENT
END:VCALENDAR
