BEGIN:VCALENDAR
VERSION:2.0
PRODID:-//ChurchDev//Events//EN
CALSCALE:GREGORIAN
METHOD:PUBLISH
BEGIN:VEVENT
UID:4706-20260506@www.oakhurstfullgospel.com
SUMMARY:AWANAS Grand Prix
DTSTART:20260507T003000Z
DTEND:20260507T013000Z
DESCRIPTION:https://www.oakhurstfullgospel.com/events/awanas-grand-prix/
URL:https://www.oakhurstfullgospel.com/events/awanas-grand-prix/
DTSTAMP:20260419T175417Z
END:VEVENT
END:VCALENDAR
